BEGIN:VCALENDAR
VERSION:2.0
PRODID:-//360 Alumni//AMDA//EN
METHOD:REQUEST
BEGIN:VEVENT
UID:10624
DTSTAMP:20240324T030000Z
DTSTART:20240324T030000Z
DTEND:20240324T050000Z
LOCATION:Torrance Cultural Arts Foundation
SUMMARY: IN MY OWN LITTLE CORNER with Broadway's Chryssie Whitehead
DESCRIPTION: AMDA Graduate and Faculty Member&nbsp;Chryssie Whitehead&nbsp;(Broadway's&nbsp;A Chorus Line, Grey's Anatomy,&nbsp;West Side Story film,&nbsp;&amp;&nbsp;Every Little Step&nbsp;documentary) is coming&nbsp;to Los Angeles, CA&nbsp;on March 23rd at 8:00 PM PT&nbsp;with her new autobiographical play with music, singing, and dancing at Torrance Cultural Arts Foundation. AMDA Community Members can SAVE 50%&nbsp;on tickets by using the code: TOCA50Tickets can be purchased HERE!
END:VEVENT
END:VCALENDAR
