BEGIN:VCALENDAR
VERSION:2.0
PRODID:-//360 Alumni//AMDA//EN
METHOD:REQUEST
BEGIN:VEVENT
UID:10772
DTSTAMP:20240517T193000Z
DTSTART:20240517T193000Z
DTEND:20240517T213000Z
LOCATION:The Lambs Social Club
SUMMARY: “Finding Success as a Young Broadway Producer” Panel - TRU YPAC
DESCRIPTION: Join TRU YPAC&rsquo;s inaugural event &ldquo;Finding Success as a Young Broadway Producer&rdquo; on Friday, May 17th from&nbsp;3:30-5:30pm! Plunge into the world of Broadway producing, network with rising theatre professionals and carve out your own opportunities.&nbsp;This event isn't just for future Broadway producers&mdash;it's a treasure trove of opportunities for everyone in theatre!&nbsp;RSVP at&nbsp;https://forms.gle/acPVWjbzw3BiKXnT9.Hurry, seats are limited.&nbsp;Event schedule:3:30-4pm Networking4-5pm Panel discussion: &ldquo;Finding Success as a Young Broadway Producer&rdquo;Moderated by Burak Tatar and Camila Grunberg.5-5:30pm Q&amp;A session&nbsp;Get to know the superstar panelists:&bull; Julia&nbsp;Dunetz&nbsp;is a Tony Award-Winning theatre producer dedicated to developing new works by and about traditionally underrepresented people through song and storytelling.&nbsp;Julia&nbsp;is a Co-Producer on this season's Broadway musical SUFFS (Tony Nom) and has previously Co-Produced PARADE (Tony Win), JUST FOR US, and SEA WALL / A LIFE (Tony Nom). She also served as the Associate Producer on the national tour of HUNDRED DAYS. Currently a Producer at Level Forward,&nbsp;Julia&nbsp;is developing THE QUEEN&rsquo;S GAMBIT as a musical and works on numerous other projects including the recent Broadway productions of HOW TO DANCE IN OHIO and POTUS.&nbsp;&bull; Stephanie McCabe is a New York and New Orleans based Theatrical Producer and Investor. Co-producing credits include Ain&rsquo;t Too Proud (Tony nom.), The Inheritance (Tony, Drama Desk, and Drama League Awards), and Off-Broadway&rsquo;s Little Girl Blue. Notable Broadway investments include &amp; Juliet, The Band&rsquo;s Visit, and Steve Martin&rsquo;s Meteor Shower. She has a Bachelor of Arts in Theatre Studies from LSU and also studied Theatre Literature, History, and Criticism at Marymount Manhattan College. In her spare time, Stephanie is a proud member of Broadway Cares/Equity Fights AIDS&rsquo;s NextGen Advocates Board.&nbsp;&bull; Marina Montesanti is a Tony-nominated co-producer for Fat Ham. As a Director: EXIST, Columbia University; Lizzie, Madison Theatre/CAP21; Dear Mr. C, University of the Arts; Savana Glacial, Irondale Theatre; Derecho, La Tea. Assistant Director; 1776, A.R.T. Associate Director to Sergio Trujillo. Montesanti has worked with Gibney Dance, BAM, Signature Theatre, and others. SDC member, SDCF Charles Abbott Fellow, TPOC Bway, NYCLU Ambassador. Partner at Iconic Vizion Productions (Dana H, Is This a Room, Kinky Boots). Co-producer: A Beautiful Noise: The Neil Diamond Musical.&nbsp;YPAC (Young Professionals and Artists Circle) is a committee of Theater Resources Unlimited aimed at providing young people with a platform where they can thrive. Our goal is to help young individuals along in their artistic journey.&nbsp;&nbsp;Website:&nbsp;truonline.org/ypacInstagram:&nbsp;instagram.com/ypactru
END:VEVENT
END:VCALENDAR
