BEGIN:VCALENDAR
VERSION:2.0
PRODID:-//360 Alumni//AMDA//EN
METHOD:REQUEST
BEGIN:VEVENT
UID:10821
DTSTAMP:20240612T020000Z
DTSTART:20240612T020000Z
DTEND:20240612T050000Z
LOCATION:Hard Rock Cafe
SUMMARY: TONIGHT - Hollywood Heels Drag Show ($5 Tickets)
DESCRIPTION: 
END:VEVENT
END:VCALENDAR
