BEGIN:VCALENDAR
VERSION:2.0
PRODID:-//360 Alumni//AMDA//EN
METHOD:REQUEST
BEGIN:VEVENT
UID:10958
DTSTAMP:20240913T190000Z
DTSTART:20240913T190000Z
DTEND:20240922T190000Z
LOCATION:The Hudson Theatres
SUMMARY: The Guy Who Didn't Like Musicals - September 13, 14, 15, 20, 21, & 22
DESCRIPTION: Mouthbone Productions Presents...THE GUY WHO DIDN'T LIKE MUSICALSby Starkid&nbsp;Everything in Hatchetfield seemed normal until people began singing... Then, they began dancing... And now, a musical pandemic is sweeping the entire city. It&rsquo;s up to Paul (an average guy who doesn&rsquo;t like musicals) and his friends to stop this musical apocalypse and fight for humanity&rsquo;s future.Show Dates: September 13, 14, 15, 20, 21, and 22, 2024Time: 7:00 PM PSTCast:Paul - Jude RossottoEmma - Keeley BellProfessor Hidgens - Donnie RiddleBill - Leo TamezTed - Iah Bearden-VraiCharlotte - Eva SchroederSam/MacNamara - Blake RhinerMr. Davidson/Homeless Guy - Jordi KligmanAlice/Zoey - Stella MulroneyGreenpeace Girl/Nora - Olivia LopesTeam and Crew:Directors - Jude Rossotto &amp; Stella MulroneyMusic Director - Alyssa WeirFight Director - Celina Surniak&nbsp;Choreographers - Eva Schroeder &amp;&nbsp;Kylie Buckles-Hall (AMDA ALUMNI)Assistant Music Director - Georgia CainesStage Manager -Mercedes Stafford (AMDA ALUMNI)To purchase tickets, please CLICK HERE!
END:VEVENT
END:VCALENDAR
