BEGIN:VCALENDAR
VERSION:2.0
PRODID:-//360 Alumni//AMDA//EN
METHOD:REQUEST
BEGIN:VEVENT
UID:11141
DTSTAMP:20250223T143000Z
DTSTART:20250223T143000Z
DTEND:20250223T233000Z
LOCATION:Rosie's Theatre Kids
SUMMARY: Broadway Arts Community - Sacred Space 1 Day Retreat
DESCRIPTION: 
END:VEVENT
END:VCALENDAR
