BEGIN:VCALENDAR
VERSION:2.0
PRODID:-//360 Alumni//AMDA//EN
METHOD:REQUEST
BEGIN:VEVENT
UID:11251
DTSTAMP:20250404T030000Z
DTSTART:20250404T030000Z
DTEND:20250414T050000Z
LOCATION:Heritage Square Museum
SUMMARY: Julius Caesar at the Heritage Square Museum (Los Angeles)
DESCRIPTION: JULIUS CAESARat the Heritage Square MuseumYou've heard this story before. You've witnessed tyranny take root. You've seen Empires fall.&nbsp;Your fellow AMDA alumni invite you to experience an age old story, viewed under a new lens with this gender bent production of William Shakespeare's Julius Caesar. It's Shakespeare's words, but it's a new arrangement, combining audience immersion, dance, and a live score as we lead you through the Senate and into the heart of Rome. Join the conspirators in protecting, or destroying, the Republic.&nbsp;Is that blood on your hands or are you just happy to see me?This production features the work of the following AMDA Alumni:Camille Imperial (Choreographer, BFA Dance)Tracey Dr&eacute; (Julius Caesar, BFA Acting)Morgan Marquez (Rumor, BFA Dance)Gabriela Marrero Roman (Rumor, BFA Dancer)Alexis Arletta Jones (Lepidus, BFA Acting)&nbsp;Emma Toureau (Executive Producer, BFA Acting)Tickets are available at: https://our.show/caesar&nbsp;Disclaimer:This event is not officially affiliated with AMDA College of the Performing Arts. Unofficial events are shared as a courtesy to alumni, but AMDA does not sponsor, endorse, or take responsibility for the event. Participants should direct any questions or concerns to the event organizers.
END:VEVENT
END:VCALENDAR
