BEGIN:VCALENDAR
VERSION:2.0
PRODID:-//360 Alumni//AMDA//EN
METHOD:REQUEST
BEGIN:VEVENT
UID:11254
DTSTAMP:20250405T170000Z
DTSTART:20250405T170000Z
DTEND:20250405T220000Z
LOCATION:The Music Center Annex
SUMMARY: Center Theatre Group presents GOING PRO Career Fair
DESCRIPTION: 
END:VEVENT
END:VCALENDAR
