BEGIN:VCALENDAR
VERSION:2.0
PRODID:-//360 Alumni//AMDA//EN
METHOD:REQUEST
BEGIN:VEVENT
UID:11490
DTSTAMP:20250917T160000Z
DTSTART:20250917T160000Z
DTEND:20250927T160000Z
LOCATION:TBA
SUMMARY: $15 Dance Classes with Gianna Vasquez Bartolini (NYC)
DESCRIPTION: $15 Dance Classes with AMDA Grad Gianna Vasquez BartoliniA series of dance classes designed for performers: no stress, no cameras, just class! Appropriate for all levels, but will focus on mastering the basics of technique and artistry.Classes are 1.5 hours in NYC.$15/class. No leotards or shoes required!Location sent out to participants and posted 24 hours before the class begins.Please see the link below to view more details on how to sign up.&nbsp;RESERVE YOUR SPOT:https://www.eventbrite.com/o/gianna-vasquez-bartolini-115373876111Class Dates:SEPTEMBER 17- 3:00-4:30 PM - JAZZSEPTEMBER 20- 11:00 AM-12:30 PM - BALLETSEPTEMBER 25- 5:30-7:00 PM - JAZZSEPTEMBER 27- 11:00 AM-12:30 PM - BALLET
END:VEVENT
END:VCALENDAR
