BEGIN:VCALENDAR
VERSION:2.0
PRODID:-//360 Alumni//AMDA//EN
METHOD:REQUEST
BEGIN:VEVENT
UID:11604
DTSTAMP:20251215T173000Z
DTSTART:20251215T173000Z
DTEND:20251215T190000Z
LOCATION:61st Street Building
SUMMARY: AMDA + Fordham BA Degree Pathway Info Session
DESCRIPTION: AMDA + FORDHAM BACHELOR'S DEGREEPATHWAY INFO SESSIONAMDA is hosting representatives from Fordham University&nbsp;to speak to our students&nbsp;and alumni&nbsp;about the&nbsp;Bachelor of Arts&nbsp;degree completion pathway through Fordham. We want to be sure that you have the information that you need if this is a path that you are interested in pursuing. Please join us for a pizza lunch and a conversation with Fordham and AMDA while we discuss next steps for&nbsp;those&nbsp;who are interested in this exciting pathway option through Fordham.MONDAY, DECEMBER 15, 2025 at 12:30 PM ET61st Street Building - Studio 304CLICK HERE TO RSVP!If you have any questions in the meantime or can&rsquo;t make this session but would love more information, please email:&nbsp;fordham@amda.edu
END:VEVENT
END:VCALENDAR
