BEGIN:VCALENDAR
VERSION:2.0
PRODID:-//360 Alumni//AMDA//EN
METHOD:REQUEST
BEGIN:VEVENT
UID:11743
DTSTAMP:20260423T200000Z
DTSTART:20260423T200000Z
DTEND:20260503T180000Z
LOCATION:Eastwood Performing arts center
SUMMARY: DOGFIGHT presented by Mouth Bone Theatre
DESCRIPTION: &nbsp;It&rsquo;s November 21, 1963. On the eve of their deployment to a small but growing conflict in Southeast Asia, three young Marines set out for one final boys&rsquo; night of debauchery, partying and maybe a little trouble. But, when Corporal Eddie Birdlace meets Rose, an awkward and idealistic waitress whom he enlists to win a cruel bet with his fellow recruits, she rewrites the rules of the game and teaches him the power of love and compassion.Now Playing Through May 3, 2026Mouth Bone TheatreThe Eastwood&nbsp;(Eastwood Mainstage)1089 N Oxford Ave, Los Angeles, CA 90029Featuring AMDA Graduates:Eddie Birdlace - Zachary SantolayaMarcy - Ailadis HernandezPeggy/Nun/Hippy/Steven&rsquo;s Date/Female Soloist #1 - Arlette CarranzaMama/Librarian/Gibb&rsquo;s Date/Female Soloist #2 - Tea BerumenRuth/Marcy U/S - Taylor Valenzuela (Marcy perfomance - April 26th)Choreographer - Kylie Buckles-HallStage Manager - Mercedes StaffordTo Purchase Tickets:https://eastwoodpac.stagey.net/projects/13707?tab=details&nbsp;
END:VEVENT
END:VCALENDAR
