BEGIN:VCALENDAR
VERSION:2.0
PRODID:-//360 Alumni//AMDA//EN
METHOD:REQUEST
BEGIN:VEVENT
UID:4456
DTSTAMP:20180717T000000Z
DTSTART:20180717T000000Z
DTEND:20180717T000000Z
LOCATION:Town Hall
SUMMARY: BROADWAY'S RISING STARS
DESCRIPTION: Town Hall presents
BROADWAY&#39;S RISING STARS
Monday, July 16th at 8pm

Broadway Rising Stars is a national showcase that introduces New York audiences to the next generation of up-and-coming talent as chosen by a panel of discerning judges from among the most outstanding new graduates.&nbsp;

&nbsp;



&nbsp;

Tickets can be purchased here:&nbsp;http://thetownhall.org/event/broadway-rising-stars-2018
END:VEVENT
END:VCALENDAR
